BEGIN:VCALENDAR
VERSION:2.0
PRODID:-//Plone.org//NONSGML plone.app.event//EN
X-WR-TIMEZONE:US/Central
BEGIN:VEVENT
SUMMARY:Thanksgiving. Library Closed
DTSTART;VALUE=DATE:20251127
DTEND;VALUE=DATE:20251129
DTSTAMP:20260421T123752Z
UID:64b3f9e7ebd4418597c95736b0f20719@saas_stack_varnish:6080
CREATED:20210111T203622Z
LAST-MODIFIED:20250110T003239Z
URL:https://tahoka.ploud.net/thanksgiving-library-closed-1
END:VEVENT
END:VCALENDAR
