BEGIN:VCALENDAR
VERSION:2.0
PRODID:-//Plone.org//NONSGML plone.app.event//EN
X-WR-TIMEZONE:US/Central
BEGIN:VEVENT
SUMMARY:President's Day. Library Closed
DTSTART;VALUE=DATE:20170220
DTEND;VALUE=DATE:20170221
DTSTAMP:20260422T020631Z
UID:23a6204b78204bc18546c8764b647a7e@saas_stack_varnish:6080
CREATED:20170301T213032Z
LAST-MODIFIED:20170301T213037Z
URL:https://tahoka.ploud.net/news-events/lib-cal/presidents-day-library-cl
 osed-1
END:VEVENT
END:VCALENDAR
