BEGIN:VCALENDAR
VERSION:2.0
PRODID:-//Plone.org//NONSGML plone.app.event//EN
X-WR-TIMEZONE:US/Central
BEGIN:VEVENT
SUMMARY:New Year's Day Holiday. Library Closed
DTSTART;VALUE=DATE:20170102
DTEND;VALUE=DATE:20170103
DTSTAMP:20260421T125045Z
UID:e7985dbd8f934e4e9276aecccbc77c99@saas_stack_varnish:6080
CREATED:20170301T212934Z
LAST-MODIFIED:20170301T212940Z
URL:https://tahoka.ploud.net/news-events/lib-cal/new-years-day-holiday-lib
 rary-closed
END:VEVENT
END:VCALENDAR
