BEGIN:VCALENDAR
VERSION:2.0
PRODID:-//Plone.org//NONSGML plone.app.event//EN
X-WR-TIMEZONE:US/Central
BEGIN:VEVENT
SUMMARY:Library Closed
DTSTART;VALUE=DATE:20151111
DTEND;VALUE=DATE:20151112
DTSTAMP:20260422T020558Z
UID:d4de94c22a7b4ad9bafe5520278f8086@saas_stack_varnish:6080
CREATED:20150821T205710Z
LAST-MODIFIED:20150821T205740Z
URL:https://tahoka.ploud.net/news-events/lib-cal/library-closed-3
END:VEVENT
END:VCALENDAR
