BEGIN:VCALENDAR
VERSION:2.0
PRODID:-//Plone.org//NONSGML plone.app.event//EN
X-WR-TIMEZONE:US/Central
BEGIN:VEVENT
SUMMARY:Library Closed
DTSTART;VALUE=DATE:20150822
DTEND;VALUE=DATE:20150823
DTSTAMP:20260422T020728Z
UID:c49ca1dfdcdf4500ac74d559a81be1a5@saas_stack_varnish:6080
RRULE:FREQ=WEEKLY;COUNT=100;BYDAY=SU,SA
CREATED:20150821T203044Z
LAST-MODIFIED:20150821T203153Z
URL:https://tahoka.ploud.net/news-events/lib-cal/library-closed-1
END:VEVENT
END:VCALENDAR
