BEGIN:VCALENDAR
VERSION:2.0
PRODID:-//Plone.org//NONSGML plone.app.event//EN
X-WR-TIMEZONE:US/Central
BEGIN:VEVENT
SUMMARY:Labor Day. Library Closed
DTSTART;VALUE=DATE:20170904
DTEND;VALUE=DATE:20170905
DTSTAMP:20260421T085346Z
UID:512f9181b9194df1b8ca3b21f698a59c@saas_stack_varnish:6080
CREATED:20170301T212010Z
LAST-MODIFIED:20170301T212015Z
URL:https://tahoka.ploud.net/news-events/lib-cal/labor-day-library-closed
END:VEVENT
END:VCALENDAR
