BEGIN:VCALENDAR
VERSION:2.0
PRODID:-//Plone.org//NONSGML plone.app.event//EN
X-WR-TIMEZONE:US/Central
BEGIN:VEVENT
SUMMARY:January 1st\, Library Closed
DTSTART;VALUE=DATE:20190101
DTEND;VALUE=DATE:20190102
DTSTAMP:20260421T083522Z
UID:40b4395f14774858bea13f4a1b420cba@saas_stack_varnish:6080
CREATED:20181218T192755Z
LAST-MODIFIED:20181218T192807Z
URL:https://tahoka.ploud.net/news-events/lib-cal/january-1st-library-close
 d
END:VEVENT
END:VCALENDAR
