BEGIN:VCALENDAR
VERSION:2.0
PRODID:-//Plone.org//NONSGML plone.app.event//EN
X-WR-TIMEZONE:US/Central
BEGIN:VEVENT
SUMMARY:Closed for Labor Day
DTSTART;TZID=US/Central:20140901T000000
DTEND;TZID=US/Central:20140901T000000
DTSTAMP:20260422T003150Z
UID:4bc44a5917889b3ce5416cbc86e011b7@saas_stack_varnish:6080
CREATED:20131115T182325Z
LAST-MODIFIED:20131115T182334Z
URL:https://tahoka.ploud.net/news-events/lib-cal/closed-for-labor-day-1.ic
 s
END:VEVENT
BEGIN:VTIMEZONE
TZID:US/Central
X-LIC-LOCATION:US/Central
BEGIN:DAYLIGHT
DTSTART:20140309T030000
TZNAME:CDT
TZOFFSETFROM:-0600
TZOFFSETTO:-0500
END:DAYLIGHT
END:VTIMEZONE
END:VCALENDAR
