BEGIN:VCALENDAR
VERSION:2.0
PRODID:-//Plone.org//NONSGML plone.app.event//EN
X-WR-TIMEZONE:US/Central
BEGIN:VEVENT
SUMMARY:Memorial Day. Library Closed
DTSTART;VALUE=DATE:20250526
DTEND;VALUE=DATE:20250527
DTSTAMP:20260423T011830Z
UID:fb276929710644869983f100fe621310@saas_stack_varnish:6080
CREATED:20210111T203318Z
LAST-MODIFIED:20250110T002724Z
URL:https://tahoka.ploud.net/memorial-day-library-closed-1
END:VEVENT
END:VCALENDAR
